BEGIN:VCALENDAR
VERSION:2.0
PRODID:-//The Trinitarians - India - ECPv5.3.2.1//NONSGML v1.0//EN
CALSCALE:GREGORIAN
METHOD:PUBLISH
X-WR-CALNAME:The Trinitarians - India
X-ORIGINAL-URL:https://trinitariansindia.org/wp
X-WR-CALDESC:Events for The Trinitarians - India
BEGIN:VTIMEZONE
TZID:UTC
BEGIN:STANDARD
TZOFFSETFROM:+0000
TZOFFSETTO:+0000
TZNAME:UTC
DTSTART:20170101T000000
END:STANDARD
END:VTIMEZONE
BEGIN:VEVENT
DTSTART;VALUE=DATE:20171217
DTEND;VALUE=DATE:20171218
DTSTAMP:20260419T202439
CREATED:20180106T070414Z
LAST-MODIFIED:20180106T093624Z
UID:3679-1513468800-1513555199@trinitariansindia.org
SUMMARY:Feast of Our Founder and Reception to Third Order
DESCRIPTION:The community commemorated our Founder along with parishioners of Hosangady and Fr. Joseph\, the Minister Vice-Provincial\, presided over the holy Eucharist.  Community also organized the reception of 14 members into the third order which was administered by Minister Vice-Provincial.
URL:https://trinitariansindia.org/wp/event/3679/
LOCATION:Holy Trinity Ashram\, Kasaragod
CATEGORIES:Celebration
ATTACH;FMTTYPE=image/png:https://trinitariansindia.org/wp/wp-content/uploads/2018/01/Kgq-Third-Order-Dec-18.png
END:VEVENT
END:VCALENDAR