BEGIN:VCALENDAR
VERSION:2.0
PRODID:-//The Trinitarians - India - ECPv5.3.2.1//NONSGML v1.0//EN
CALSCALE:GREGORIAN
METHOD:PUBLISH
X-WR-CALNAME:The Trinitarians - India
X-ORIGINAL-URL:https://trinitariansindia.org/wp
X-WR-CALDESC:Events for The Trinitarians - India
BEGIN:VTIMEZONE
TZID:UTC
BEGIN:STANDARD
TZOFFSETFROM:+0000
TZOFFSETTO:+0000
TZNAME:UTC
DTSTART:20190101T000000
END:STANDARD
END:VTIMEZONE
BEGIN:VEVENT
DTSTART;VALUE=DATE:20190223
DTEND;VALUE=DATE:20190225
DTSTAMP:20260421T082924
CREATED:20190306T103641Z
LAST-MODIFIED:20190306T152407Z
UID:5686-1550880000-1551052799@trinitariansindia.org
SUMMARY:Visit to the Trinitarians in Bangalore
DESCRIPTION:We visited the community of the Trinitarian Fathers in Bangalore.  We had a very good time and great opportunity  to interact with our brothers and fathers and we thank the Triune God for the gift of the Trinitarian charism into the hearts of us all. This time helped us to experience God’s grace\, joy and love as a Family. We got  a dream about our future too.   thanks dear Fathers Joseph and Bitaju for their concern and care and brothers for their love\, joy and happiness shared on those unforgettable days.
URL:https://trinitariansindia.org/wp/event/5686/
LOCATION:Trinitarian Sisters\, Thrissur\, Holy Trinity Convent\, Thrissur\, Kerala\, 680618\, India
CATEGORIES:Visit
ATTACH;FMTTYPE=image/png:https://trinitariansindia.org/wp/wp-content/uploads/2019/03/Sisters-visit-to-Blr-Feb2019.png
END:VEVENT
END:VCALENDAR