BEGIN:VCALENDAR
VERSION:2.0
PRODID:-//The Trinitarians - India - ECPv5.3.2.1//NONSGML v1.0//EN
CALSCALE:GREGORIAN
METHOD:PUBLISH
X-WR-CALNAME:The Trinitarians - India
X-ORIGINAL-URL:https://trinitariansindia.org/wp
X-WR-CALDESC:Events for The Trinitarians - India
BEGIN:VTIMEZONE
TZID:UTC
BEGIN:STANDARD
TZOFFSETFROM:+0000
TZOFFSETTO:+0000
TZNAME:UTC
DTSTART:20190101T000000
END:STANDARD
END:VTIMEZONE
BEGIN:VEVENT
DTSTART;VALUE=DATE:20190303
DTEND;VALUE=DATE:20190304
DTSTAMP:20260423T192501
CREATED:20190411T171100Z
LAST-MODIFIED:20190412T102954Z
UID:5835-1551571200-1551657599@trinitariansindia.org
SUMMARY:Annual Day @ Angel Valley
DESCRIPTION:March 3:  The closing of the academic year 2018-2019 of the Pre-school Angel Valley. It was a memorable day\, as it added one more colourful feather to the presence of our Congregation in India through the success of the pre-school.  Yet sad\, because we won’t see the children for 2 months.   El 15 de Marzo se clausuró el curso académico 2018-2019 de la guardería “Valle del Angel” donde tomamos parte las hermanas enseñando Español. En este día\, que se queda en nuestra memoria\, hemos puesto una piedra más en la construcción de la presencia de nuestra congregación en India\, con alegría y gozo por el éxito de la Guardería y también con tristeza y melancolí  porque no nos veremos sino hasta después de 2 meses\, el programa se llevo acabo. \nAn
URL:https://trinitariansindia.org/wp/event/5835/
LOCATION:Trinitarian Sisters\, Thrissur\, Holy Trinity Convent\, Thrissur\, Kerala\, 680618
CATEGORIES:Sisters Trinitarian
ATTACH;FMTTYPE=image/png:https://trinitariansindia.org/wp/wp-content/uploads/2019/04/SISTERS-anuual-day-March-2019.png
END:VEVENT
END:VCALENDAR