BEGIN:VCALENDAR
VERSION:2.0
PRODID:-//The Trinitarians - India - ECPv5.3.2.1//NONSGML v1.0//EN
CALSCALE:GREGORIAN
METHOD:PUBLISH
X-WR-CALNAME:The Trinitarians - India
X-ORIGINAL-URL:https://trinitariansindia.org/wp
X-WR-CALDESC:Events for The Trinitarians - India
BEGIN:VTIMEZONE
TZID:UTC
BEGIN:STANDARD
TZOFFSETFROM:+0000
TZOFFSETTO:+0000
TZNAME:UTC
DTSTART:20220101T000000
END:STANDARD
END:VTIMEZONE
BEGIN:VEVENT
DTSTART;VALUE=DATE:20220808
DTEND;VALUE=DATE:20220809
DTSTAMP:20260425T144911
CREATED:20220909T060420Z
LAST-MODIFIED:20220909T060420Z
UID:10740-1659916800-1660003199@trinitariansindia.org
SUMMARY:A Visit to Navajeevan Special School
DESCRIPTION:Community Made a visit to Navajeevan  School\, Perla\, Kasaragod run by Norbertine Fathers and we engaged in their daily activities especially feeding the children. Brothers staged a few cultural programs to entertain the children of the center.
URL:https://trinitariansindia.org/wp/event/a-visit-to-navajeevan-special-school/
LOCATION:Holy Trinity Ashram\, Kasaragod
CATEGORIES:Visit
ATTACH;FMTTYPE=image/png:https://trinitariansindia.org/wp/wp-content/uploads/2022/09/KGQ-visit-to-Navajeevan-Sept-2022.png
END:VEVENT
END:VCALENDAR