BEGIN:VCALENDAR
VERSION:2.0
PRODID:-//The Trinitarians - India - ECPv5.3.2.1//NONSGML v1.0//EN
CALSCALE:GREGORIAN
METHOD:PUBLISH
X-WR-CALNAME:The Trinitarians - India
X-ORIGINAL-URL:https://trinitariansindia.org/wp
X-WR-CALDESC:Events for The Trinitarians - India
BEGIN:VTIMEZONE
TZID:UTC
BEGIN:STANDARD
TZOFFSETFROM:+0000
TZOFFSETTO:+0000
TZNAME:UTC
DTSTART:20230101T000000
END:STANDARD
END:VTIMEZONE
BEGIN:VEVENT
DTSTART;VALUE=DATE:20230730
DTEND;VALUE=DATE:20230731
DTSTAMP:20260423T200740
CREATED:20230808T022206Z
LAST-MODIFIED:20230808T022206Z
UID:12217-1690675200-1690761599@trinitariansindia.org
SUMMARY:Admission to Third Order
DESCRIPTION:Mr. Celestino Tibaldi and Mrs. Maria D’Aprano entered Trinitarian Secular Order during the Eucharistic celebration in the Parish Church of Saint John the Baptist\, in Castelforte. Presided by Fr. Fabio Gallozzi\, the Parish Priest and concelebrated by Fr. Sibi Puthussery\, O.SS.T.\, Spiritual Director of the Fraternity of Blessed Elisabeth Canori Mora. This important event was well attended by laity from various fraternities and with the presence of Mrs. Dolla Batourel-Zoghby\, National President of the laity.
URL:https://trinitariansindia.org/wp/event/admission-to-third-order/
LOCATION:Rome
CATEGORIES:Third Order
ATTACH;FMTTYPE=image/png:https://trinitariansindia.org/wp/wp-content/uploads/2023/08/ITALY-admission-of-laity-July2023.png
END:VEVENT
END:VCALENDAR