BEGIN:VCALENDAR
VERSION:2.0
PRODID:-//The Trinitarians - India - ECPv5.3.2.1//NONSGML v1.0//EN
CALSCALE:GREGORIAN
METHOD:PUBLISH
X-WR-CALNAME:The Trinitarians - India
X-ORIGINAL-URL:https://trinitariansindia.org/wp
X-WR-CALDESC:Events for The Trinitarians - India
BEGIN:VTIMEZONE
TZID:UTC
BEGIN:STANDARD
TZOFFSETFROM:+0000
TZOFFSETTO:+0000
TZNAME:UTC
DTSTART:20240101T000000
END:STANDARD
END:VTIMEZONE
BEGIN:VEVENT
DTSTART;VALUE=DATE:20241020
DTEND;VALUE=DATE:20241021
DTSTAMP:20260419T220951
CREATED:20241113T100521Z
LAST-MODIFIED:20241113T100521Z
UID:13618-1729382400-1729468799@trinitariansindia.org
SUMMARY:Adoration and Way of the Cross for the Persecuted Christians
DESCRIPTION:Under the leadership of the Third Order members in Bangalore a day of prayer and way of the cross for the persecuted Christians was organized.  And all the solemn professed members also were present for the way of the cross.
URL:https://trinitariansindia.org/wp/event/adoration-and-way-of-the-cross-for-the-persecuted-christians/
LOCATION:Holy Trinity Ashram – Bengaluru\, Holy Trinity Ashram\, Bengaluru\, karnataka\, 560076\, India
CATEGORIES:Prayer day
ATTACH;FMTTYPE=image/png:https://trinitariansindia.org/wp/wp-content/uploads/2024/11/BLR-Way-of-the-Cross-for-persecuted-Oct2024.png
END:VEVENT
END:VCALENDAR