BEGIN:VCALENDAR
VERSION:2.0
PRODID:-//The Trinitarians - India - ECPv5.3.2.1//NONSGML v1.0//EN
CALSCALE:GREGORIAN
METHOD:PUBLISH
X-WR-CALNAME:The Trinitarians - India
X-ORIGINAL-URL:https://trinitariansindia.org/wp
X-WR-CALDESC:Events for The Trinitarians - India
BEGIN:VTIMEZONE
TZID:UTC
BEGIN:STANDARD
TZOFFSETFROM:+0000
TZOFFSETTO:+0000
TZNAME:UTC
DTSTART:20230101T000000
END:STANDARD
END:VTIMEZONE
BEGIN:VEVENT
DTSTART;VALUE=DATE:20231021
DTEND;VALUE=DATE:20231022
DTSTAMP:20260421T151650
CREATED:20231114T162854Z
LAST-MODIFIED:20231114T162854Z
UID:12634-1697846400-1697932799@trinitariansindia.org
SUMMARY:Adoration for Persecuted Christian
DESCRIPTION:The community observed a day of prayer in Adoration for Persecuted Christians.  The Adoration was done mainly for Persecuted Christian all over the world.
URL:https://trinitariansindia.org/wp/event/adoration-for-persecuted-christian/
LOCATION:Holy Trinity Ashram – Bengaluru\, Holy Trinity Ashram\, Bengaluru\, karnataka\, 560076\, India
CATEGORIES:Prayer day
ATTACH;FMTTYPE=image/png:https://trinitariansindia.org/wp/wp-content/uploads/2023/11/TCR-prayer-for-persecuted-Oct2023.png
END:VEVENT
END:VCALENDAR