BEGIN:VCALENDAR
VERSION:2.0
PRODID:-//The Trinitarians - India - ECPv5.3.2.1//NONSGML v1.0//EN
CALSCALE:GREGORIAN
METHOD:PUBLISH
X-WR-CALNAME:The Trinitarians - India
X-ORIGINAL-URL:https://trinitariansindia.org/wp
X-WR-CALDESC:Events for The Trinitarians - India
BEGIN:VTIMEZONE
TZID:UTC
BEGIN:STANDARD
TZOFFSETFROM:+0000
TZOFFSETTO:+0000
TZNAME:UTC
DTSTART:20220101T000000
END:STANDARD
END:VTIMEZONE
BEGIN:VEVENT
DTSTART;VALUE=DATE:20221101
DTEND;VALUE=DATE:20221102
DTSTAMP:20260421T155847
CREATED:20221212T172533Z
LAST-MODIFIED:20221212T172533Z
UID:11383-1667260800-1667347199@trinitariansindia.org
SUMMARY:All Saints Day Feast
DESCRIPTION:We the Trinitarians in Bangalore celebrated the solemnity of the All-Saints Day. Fr. Lijo Abraham Vattukulathil O.SS.T. celebrated the Holy Eucharist and gave a beautiful message. On that particular day\, we asked the grace and intercession of all the saints to help us grow in a deep relationship with the Lord.
URL:https://trinitariansindia.org/wp/event/all-saints-day-feast/
LOCATION:Holy Trinity Ashram – Bengaluru\, Holy Trinity Ashram\, Bengaluru\, karnataka\, 560076\, India
CATEGORIES:Feast
ATTACH;FMTTYPE=image/png:https://trinitariansindia.org/wp/wp-content/uploads/2022/12/BLR-all-saints-feast-Nov2022.png
END:VEVENT
END:VCALENDAR