BEGIN:VCALENDAR
VERSION:2.0
PRODID:-//The Trinitarians - India - ECPv5.3.2.1//NONSGML v1.0//EN
CALSCALE:GREGORIAN
METHOD:PUBLISH
X-WR-CALNAME:The Trinitarians - India
X-ORIGINAL-URL:https://trinitariansindia.org/wp
X-WR-CALDESC:Events for The Trinitarians - India
BEGIN:VTIMEZONE
TZID:UTC
BEGIN:STANDARD
TZOFFSETFROM:+0000
TZOFFSETTO:+0000
TZNAME:UTC
DTSTART:20160101T000000
END:STANDARD
END:VTIMEZONE
BEGIN:VEVENT
DTSTART;VALUE=DATE:20161002
DTEND;VALUE=DATE:20161007
DTSTAMP:20260423T071208
CREATED:20161123T124018Z
LAST-MODIFIED:20161123T124839Z
UID:1846-1475366400-1475798399@trinitariansindia.org
SUMMARY:Annual Retreat
DESCRIPTION:The annual retreat of the community began. Fr. Bitaju\, O.SS.T. preached the retreat. It ended on 6th October. Fr. Bitaju was felicitated by the community on his appointment as the Councilor and Secretary of the Vice Province.
URL:https://trinitariansindia.org/wp/event/annual-retreat/
LOCATION:Holy Trinity Ashram\, Kasaragod
CATEGORIES:Retreat
ATTACH;FMTTYPE=image/png:https://trinitariansindia.org/wp/wp-content/uploads/2016/11/Annual-Retreat.png
END:VEVENT
END:VCALENDAR