BEGIN:VCALENDAR
VERSION:2.0
PRODID:-//The Trinitarians - India - ECPv5.3.2.1//NONSGML v1.0//EN
CALSCALE:GREGORIAN
METHOD:PUBLISH
X-WR-CALNAME:The Trinitarians - India
X-ORIGINAL-URL:https://trinitariansindia.org/wp
X-WR-CALDESC:Events for The Trinitarians - India
BEGIN:VTIMEZONE
TZID:UTC
BEGIN:STANDARD
TZOFFSETFROM:+0000
TZOFFSETTO:+0000
TZNAME:UTC
DTSTART:20180101T000000
END:STANDARD
END:VTIMEZONE
BEGIN:VEVENT
DTSTART;VALUE=DATE:20180114
DTEND;VALUE=DATE:20180115
DTSTAMP:20260422T084418
CREATED:20180123T082059Z
LAST-MODIFIED:20180123T082059Z
UID:3716-1515888000-1515974399@trinitariansindia.org
SUMMARY:APPS @ Rome
DESCRIPTION:Brothers Diljo Achandy and Saneesh Paul began their preparation for Solemn Profession (APPS) at San Carlino\, Rome. There are seven participants in the program this year 2018.
URL:https://trinitariansindia.org/wp/event/apps-rome/
LOCATION:Holy Trinity Ashram – Bengaluru\, Holy Trinity Ashram\, Bengaluru\, karnataka\, 560076\, India
CATEGORIES:APPS,Celebration
ATTACH;FMTTYPE=image/png:https://trinitariansindia.org/wp/wp-content/uploads/2018/01/APPS-Rome-Jan-2018.png
END:VEVENT
END:VCALENDAR