BEGIN:VCALENDAR
VERSION:2.0
PRODID:-//The Trinitarians - India - ECPv5.3.2.1//NONSGML v1.0//EN
CALSCALE:GREGORIAN
METHOD:PUBLISH
X-WR-CALNAME:The Trinitarians - India
X-ORIGINAL-URL:https://trinitariansindia.org/wp
X-WR-CALDESC:Events for The Trinitarians - India
BEGIN:VTIMEZONE
TZID:UTC
BEGIN:STANDARD
TZOFFSETFROM:+0000
TZOFFSETTO:+0000
TZNAME:UTC
DTSTART:20230101T000000
END:STANDARD
END:VTIMEZONE
BEGIN:VEVENT
DTSTART;VALUE=DATE:20230815
DTEND;VALUE=DATE:20230816
DTSTAMP:20260423T180422
CREATED:20230917T093006Z
LAST-MODIFIED:20230917T093006Z
UID:12360-1692057600-1692143999@trinitariansindia.org
SUMMARY:Assumption of Bl. Mary and First Holy Communion
DESCRIPTION:First Holy Communion of Br. Martio Basumatary\, a candidate in DeMatha Boy’s Home\, was celebrated in DeMatha Home. Fr. Xavier Kachappilly was the main Celebrant. Sisters from neighboring communities were invited for the program. Members from Br. Martio’s family were present for his First Holy Communion.
URL:https://trinitariansindia.org/wp/event/assumption-of-bl-mary-and-first-holy-communion/
LOCATION:Tritva Bhavan\, Assam
CATEGORIES:Assam
ATTACH;FMTTYPE=image/png:https://trinitariansindia.org/wp/wp-content/uploads/2023/09/ASSAM-feast-n-Holy-Communion-Aug2023.png
END:VEVENT
END:VCALENDAR