BEGIN:VCALENDAR
VERSION:2.0
PRODID:-//The Trinitarians - India - ECPv5.3.2.1//NONSGML v1.0//EN
CALSCALE:GREGORIAN
METHOD:PUBLISH
X-WR-CALNAME:The Trinitarians - India
X-ORIGINAL-URL:https://trinitariansindia.org/wp
X-WR-CALDESC:Events for The Trinitarians - India
BEGIN:VTIMEZONE
TZID:UTC
BEGIN:STANDARD
TZOFFSETFROM:+0000
TZOFFSETTO:+0000
TZNAME:UTC
DTSTART:20220101T000000
END:STANDARD
END:VTIMEZONE
BEGIN:VEVENT
DTSTART;VALUE=DATE:20221006
DTEND;VALUE=DATE:20221007
DTSTAMP:20260421T171615
CREATED:20221104T055104Z
LAST-MODIFIED:20221104T055104Z
UID:11276-1665014400-1665100799@trinitariansindia.org
SUMMARY:Best wishes to Br. Prakash
DESCRIPTION:On his solemn profession day\, the community was happy to congratulate Br. Done Prakash. We set aside that evening for a short program. Br. Prakash’s family joined us for the event.
URL:https://trinitariansindia.org/wp/event/best-wishes-to-br-prakash/
LOCATION:Holy Trinity Ashram – Bengaluru\, Holy Trinity Ashram\, Bengaluru\, karnataka\, 560076\, India
CATEGORIES:Congratulations
ATTACH;FMTTYPE=image/png:https://trinitariansindia.org/wp/wp-content/uploads/2022/11/BLR-best-wishes-to-Bro.-Prakash-Oct-2022.png
END:VEVENT
END:VCALENDAR