BEGIN:VCALENDAR
VERSION:2.0
PRODID:-//The Trinitarians - India - ECPv5.3.2.1//NONSGML v1.0//EN
CALSCALE:GREGORIAN
METHOD:PUBLISH
X-WR-CALNAME:The Trinitarians - India
X-ORIGINAL-URL:https://trinitariansindia.org/wp
X-WR-CALDESC:Events for The Trinitarians - India
BEGIN:VTIMEZONE
TZID:UTC
BEGIN:STANDARD
TZOFFSETFROM:+0000
TZOFFSETTO:+0000
TZNAME:UTC
DTSTART:20210101T000000
END:STANDARD
END:VTIMEZONE
BEGIN:VEVENT
DTSTART;VALUE=DATE:20210616
DTEND;VALUE=DATE:20210617
DTSTAMP:20260422T155126
CREATED:20210719T091931Z
LAST-MODIFIED:20210719T091931Z
UID:8948-1623801600-1623887999@trinitariansindia.org
SUMMARY:Birthday Greetings to Mr. Ravi and Mr. Jose
DESCRIPTION:We had two birthday babies from our staff’ side – Mr. Jose C. M. and Ravi. We thanked them for their selfless efforts for the community and wished them all the success in their lives. They cut the cake and shared the joy of the day. Fr. Jins gifted them with the community gift.
URL:https://trinitariansindia.org/wp/event/birthday-greetings-to-mr-ravi-and-mr-jose/
LOCATION:Holy Trinity Ashram\, Thrissur\, Holy Trinity Ashram\, Thrissur\, Kerala\, 680618\, India
CATEGORIES:Birthday
ATTACH;FMTTYPE=image/png:https://trinitariansindia.org/wp/wp-content/uploads/2021/07/TCR-bdy-Jose-and-Ravi-June-2021.png
END:VEVENT
END:VCALENDAR