BEGIN:VCALENDAR
VERSION:2.0
PRODID:-//The Trinitarians - India - ECPv5.3.2.1//NONSGML v1.0//EN
CALSCALE:GREGORIAN
METHOD:PUBLISH
X-WR-CALNAME:The Trinitarians - India
X-ORIGINAL-URL:https://trinitariansindia.org/wp
X-WR-CALDESC:Events for The Trinitarians - India
BEGIN:VTIMEZONE
TZID:UTC
BEGIN:STANDARD
TZOFFSETFROM:+0000
TZOFFSETTO:+0000
TZNAME:UTC
DTSTART:20170101T000000
END:STANDARD
END:VTIMEZONE
BEGIN:VEVENT
DTSTART;VALUE=DATE:20171216
DTEND;VALUE=DATE:20171217
DTSTAMP:20260419T164627
CREATED:20180124T124743Z
LAST-MODIFIED:20180124T125426Z
UID:3779-1513382400-1513468799@trinitariansindia.org
SUMMARY:Birthday of Sr. Alphonsa
DESCRIPTION:We celebrated the birthday of our dear Sr. Alphonsa Veliyath with joy and happiness. The community wished her all the best and prayed for her.
URL:https://trinitariansindia.org/wp/event/birthday-of-sr-alphonsa/
LOCATION:Trinitarian Sisters\, Thrissur\, Holy Trinity Convent\, Thrissur\, Kerala\, 680618\, India
CATEGORIES:Birthday
ATTACH;FMTTYPE=image/png:https://trinitariansindia.org/wp/wp-content/uploads/2018/01/Tn-Srs-Bday-Alphonsa-Dec-18-1.png
END:VEVENT
END:VCALENDAR