BEGIN:VCALENDAR
VERSION:2.0
PRODID:-//The Trinitarians - India - ECPv5.3.2.1//NONSGML v1.0//EN
CALSCALE:GREGORIAN
METHOD:PUBLISH
X-WR-CALNAME:The Trinitarians - India
X-ORIGINAL-URL:https://trinitariansindia.org/wp
X-WR-CALDESC:Events for The Trinitarians - India
BEGIN:VTIMEZONE
TZID:UTC
BEGIN:STANDARD
TZOFFSETFROM:+0000
TZOFFSETTO:+0000
TZNAME:UTC
DTSTART:20190101T000000
END:STANDARD
END:VTIMEZONE
BEGIN:VEVENT
DTSTART;VALUE=DATE:20190214
DTEND;VALUE=DATE:20190215
DTSTAMP:20260420T114751
CREATED:20190302T060339Z
LAST-MODIFIED:20190302T061404Z
UID:5637-1550102400-1550188799@trinitariansindia.org
SUMMARY:Blessing and Inauguration of DeMatha School\, Assam
DESCRIPTION:The DeMatha School was blessed and inaugurated by Most Rev. John Moolachira\, Archbishop of Guwahati\, and Rev. Fr. Joseph Muthuplackal\, O.SS.T.\, the Minister Vice-Provincial\, at 10.30 a.m. on February 14\, 2019.  Several Trinitarian friars\, religious and priests from the neighbouring missions and students and parents of the school participated in the programs.  The Council congratulates the efforts and hard work of all our friars\, especially Fr. Jojo George\, the Manager of the School\, Fr. Meby Varghese\, the Principal of the School and Fr. Biju Varghese\, the Administrator of the School.
URL:https://trinitariansindia.org/wp/event/blessing-and-inauguration-of-dematha-school-assam/
LOCATION:Tritva Bhavan\, Assam
CATEGORIES:Blessing,De Matha School,Inauguration
ATTACH;FMTTYPE=image/png:https://trinitariansindia.org/wp/wp-content/uploads/2019/03/DeMatha-school-flex.png
END:VEVENT
END:VCALENDAR