BEGIN:VCALENDAR
VERSION:2.0
PRODID:-//The Trinitarians - India - ECPv5.3.2.1//NONSGML v1.0//EN
CALSCALE:GREGORIAN
METHOD:PUBLISH
X-WR-CALNAME:The Trinitarians - India
X-ORIGINAL-URL:https://trinitariansindia.org/wp
X-WR-CALDESC:Events for The Trinitarians - India
BEGIN:VTIMEZONE
TZID:UTC
BEGIN:STANDARD
TZOFFSETFROM:+0000
TZOFFSETTO:+0000
TZNAME:UTC
DTSTART:20230101T000000
END:STANDARD
END:VTIMEZONE
BEGIN:VEVENT
DTSTART;VALUE=DATE:20231104
DTEND;VALUE=DATE:20231105
DTSTAMP:20260422T035344
CREATED:20231218T061807Z
LAST-MODIFIED:20231218T061807Z
UID:12786-1699056000-1699142399@trinitariansindia.org
SUMMARY:Blessing of New House of Dn. Prakash
DESCRIPTION:Fr. Pradeep and Fr. Vinay along with the parish priest blessed the new house of Deacon Done Prakash.  The family expressed their gratitude and appreciation to the Trinitarians.
URL:https://trinitariansindia.org/wp/event/blessing-of-new-house-of-dn-prakash/
LOCATION:Holy Trinity Ashram – Bengaluru\, Holy Trinity Ashram\, Bengaluru\, karnataka\, 560076\, India
CATEGORIES:Blessing
ATTACH;FMTTYPE=image/png:https://trinitariansindia.org/wp/wp-content/uploads/2023/12/BLR-blessing-of-the-house-of-Dn-Prakash-Nov2023.png
END:VEVENT
END:VCALENDAR