BEGIN:VCALENDAR
VERSION:2.0
PRODID:-//The Trinitarians - India - ECPv5.3.2.1//NONSGML v1.0//EN
CALSCALE:GREGORIAN
METHOD:PUBLISH
X-WR-CALNAME:The Trinitarians - India
X-ORIGINAL-URL:https://trinitariansindia.org/wp
X-WR-CALDESC:Events for The Trinitarians - India
BEGIN:VTIMEZONE
TZID:UTC
BEGIN:STANDARD
TZOFFSETFROM:+0000
TZOFFSETTO:+0000
TZNAME:UTC
DTSTART:20220101T000000
END:STANDARD
END:VTIMEZONE
BEGIN:VEVENT
DTSTART;VALUE=DATE:20221001
DTEND;VALUE=DATE:20221002
DTSTAMP:20260421T151823
CREATED:20221022T053202Z
LAST-MODIFIED:20221022T053202Z
UID:11078-1664582400-1664668799@trinitariansindia.org
SUMMARY:Chapter Animation by Rev. Dr. Paul Achandy\, CMI
DESCRIPTION:Rev. Paul Achandy\, CMI animated two session in the morning hours of first day of the Vice Provincial Chapter.  He urged the Capitulars to take responsibility in the Vice Province through active participation and creative contribution during the Chapter.  He emphasised the need for the Trinitarian Communion especially in the context of the entire Church reflecting and pursuing a synodal model.  His long years of experience as the Prior General and Provincial Superior of the Carmelites enabled him to enlight the capitulars through many examples and models.
URL:https://trinitariansindia.org/wp/event/chapter-animation-by-rev-dr-paul-achandy-cmi/
LOCATION:Vice-Province Admin\, Holy Trinity Ashram\, Bangalore\, 560076\, India
CATEGORIES:VP Chapter
ATTACH;FMTTYPE=image/png:https://trinitariansindia.org/wp/wp-content/uploads/2022/10/VP-Chapter-Rev-Paul-Achandy-Oct2022.png
END:VEVENT
END:VCALENDAR