BEGIN:VCALENDAR
VERSION:2.0
PRODID:-//The Trinitarians - India - ECPv5.3.2.1//NONSGML v1.0//EN
CALSCALE:GREGORIAN
METHOD:PUBLISH
X-WR-CALNAME:The Trinitarians - India
X-ORIGINAL-URL:https://trinitariansindia.org/wp
X-WR-CALDESC:Events for The Trinitarians - India
BEGIN:VTIMEZONE
TZID:UTC
BEGIN:STANDARD
TZOFFSETFROM:+0000
TZOFFSETTO:+0000
TZNAME:UTC
DTSTART:20210101T000000
END:STANDARD
END:VTIMEZONE
BEGIN:VEVENT
DTSTART;VALUE=DATE:20211222
DTEND;VALUE=DATE:20211223
DTSTAMP:20260423T010718
CREATED:20220111T164410Z
LAST-MODIFIED:20220111T164410Z
UID:9703-1640131200-1640217599@trinitariansindia.org
SUMMARY:Christmas Carols
DESCRIPTION:Carols singing from St. Thomas church Kollangana and St. Joseph church Kasaragod visited the community and had a good time.
URL:https://trinitariansindia.org/wp/event/christmas-carols-4/
LOCATION:Holy Trinity Ashram\, Kasaragod
CATEGORIES:Celebration
ATTACH;FMTTYPE=image/png:https://trinitariansindia.org/wp/wp-content/uploads/2022/01/KGQ-Christmas-Carols-Dec2021.png
END:VEVENT
END:VCALENDAR