BEGIN:VCALENDAR
VERSION:2.0
PRODID:-//The Trinitarians - India - ECPv5.3.2.1//NONSGML v1.0//EN
CALSCALE:GREGORIAN
METHOD:PUBLISH
X-WR-CALNAME:The Trinitarians - India
X-ORIGINAL-URL:https://trinitariansindia.org/wp
X-WR-CALDESC:Events for The Trinitarians - India
BEGIN:VTIMEZONE
TZID:UTC
BEGIN:STANDARD
TZOFFSETFROM:+0000
TZOFFSETTO:+0000
TZNAME:UTC
DTSTART:20210101T000000
END:STANDARD
END:VTIMEZONE
BEGIN:VEVENT
DTSTART;VALUE=DATE:20211221
DTEND;VALUE=DATE:20211223
DTSTAMP:20260422T214720
CREATED:20220113T084222Z
LAST-MODIFIED:20220113T084222Z
UID:9772-1640044800-1640217599@trinitariansindia.org
SUMMARY:Christmas Carols
DESCRIPTION:The community animated Christmas carols this year as well. On 21st\, we went to the neighbouring houses and entertained them with the carols. We also gave a cake to share the joy of the Christmas. On 22nd\, we went to the nearby religious communities. We were able to entertain them with the Christmas vibe. We wished them with a cake and Christmas cards.
URL:https://trinitariansindia.org/wp/event/christmas-carols-5/
LOCATION:Holy Trinity Ashram\, Thrissur\, Holy Trinity Ashram\, Thrissur\, Kerala\, 680618\, India
CATEGORIES:Celebration
ATTACH;FMTTYPE=image/png:https://trinitariansindia.org/wp/wp-content/uploads/2022/01/TCR-Christmas-crols-Dec2021.png
END:VEVENT
END:VCALENDAR