BEGIN:VCALENDAR
VERSION:2.0
PRODID:-//The Trinitarians - India - ECPv5.3.2.1//NONSGML v1.0//EN
CALSCALE:GREGORIAN
METHOD:PUBLISH
X-WR-CALNAME:The Trinitarians - India
X-ORIGINAL-URL:https://trinitariansindia.org/wp
X-WR-CALDESC:Events for The Trinitarians - India
BEGIN:VTIMEZONE
TZID:UTC
BEGIN:STANDARD
TZOFFSETFROM:+0000
TZOFFSETTO:+0000
TZNAME:UTC
DTSTART:20230101T000000
END:STANDARD
END:VTIMEZONE
BEGIN:VEVENT
DTSTART;VALUE=DATE:20231225
DTEND;VALUE=DATE:20231226
DTSTAMP:20260421T104427
CREATED:20240125T170358Z
LAST-MODIFIED:20240125T170358Z
UID:12855-1703462400-1703548799@trinitariansindia.org
SUMMARY:Christmas Celebration
DESCRIPTION:We began advent with lot of preparations. Aspirants\, novices and juniors did different activities and prayers for 25 days. We made the crib and we made the cradle for Baby Jesus born for all the humanity. We decorated the house with light and stars. It was a beautiful time of togetherness.
URL:https://trinitariansindia.org/wp/event/christmas-celebration-8/
LOCATION:Trinitarian Sisters\, Thrissur\, Holy Trinity Convent\, Thrissur\, Kerala\, 680618\, India
CATEGORIES:Celebration
ATTACH;FMTTYPE=image/png:https://trinitariansindia.org/wp/wp-content/uploads/2024/01/SISTERS-Christmas-Dec2023.png
END:VEVENT
END:VCALENDAR