BEGIN:VCALENDAR
VERSION:2.0
PRODID:-//The Trinitarians - India - ECPv5.3.2.1//NONSGML v1.0//EN
CALSCALE:GREGORIAN
METHOD:PUBLISH
X-WR-CALNAME:The Trinitarians - India
X-ORIGINAL-URL:https://trinitariansindia.org/wp
X-WR-CALDESC:Events for The Trinitarians - India
BEGIN:VTIMEZONE
TZID:UTC
BEGIN:STANDARD
TZOFFSETFROM:+0000
TZOFFSETTO:+0000
TZNAME:UTC
DTSTART:20210101T000000
END:STANDARD
END:VTIMEZONE
BEGIN:VEVENT
DTSTART;VALUE=DATE:20211225
DTEND;VALUE=DATE:20211226
DTSTAMP:20260423T133648
CREATED:20220108T133635Z
LAST-MODIFIED:20220108T133635Z
UID:9616-1640390400-1640476799@trinitariansindia.org
SUMMARY:Christmas Celebrations
DESCRIPTION:The community had the prayer service as preparation to receive Jesus on 24th evening. We joined Trinitarian Fathers for the Christmas celebration. After the Mass and celebration in the Ashram the community sang carol songs and adored Child Jesus.
URL:https://trinitariansindia.org/wp/event/christmas-celebrations-17/
LOCATION:Trinitarian Sisters\, Thrissur\, Holy Trinity Convent\, Thrissur\, Kerala\, 680618\, India
CATEGORIES:Celebration
ATTACH;FMTTYPE=image/png:https://trinitariansindia.org/wp/wp-content/uploads/2022/01/SISTERS-Christmas-Dec2021.png
END:VEVENT
END:VCALENDAR