BEGIN:VCALENDAR
VERSION:2.0
PRODID:-//The Trinitarians - India - ECPv5.3.2.1//NONSGML v1.0//EN
CALSCALE:GREGORIAN
METHOD:PUBLISH
X-WR-CALNAME:The Trinitarians - India
X-ORIGINAL-URL:https://trinitariansindia.org/wp
X-WR-CALDESC:Events for The Trinitarians - India
BEGIN:VTIMEZONE
TZID:UTC
BEGIN:STANDARD
TZOFFSETFROM:+0000
TZOFFSETTO:+0000
TZNAME:UTC
DTSTART:20210101T000000
END:STANDARD
END:VTIMEZONE
BEGIN:VEVENT
DTSTART;VALUE=DATE:20211224
DTEND;VALUE=DATE:20211226
DTSTAMP:20260423T090751
CREATED:20220112T035509Z
LAST-MODIFIED:20220112T035509Z
UID:9722-1640304000-1640476799@trinitariansindia.org
SUMMARY:Christmas Celebrations
DESCRIPTION:The community had the Christmas Mass at 10:00 pm on 24th. The sisters and a few parishoners were present for the celebration. Fr. Pradeep presided over the Mass and gave the homily. After the Mass there was a small celebration with cutting the cake. On Saturday the community had sisters for the Christmas lunch. And after the lunch there was exchange of Christmas gifts between the Christmas friends.
URL:https://trinitariansindia.org/wp/event/christmas-celebrations-20/
LOCATION:Holy Trinity Ashram – Shimoga
CATEGORIES:Celebration
ATTACH;FMTTYPE=image/png:https://trinitariansindia.org/wp/wp-content/uploads/2022/01/SHIMOGA-Christmas-Dec2021.png
END:VEVENT
END:VCALENDAR