BEGIN:VCALENDAR
VERSION:2.0
PRODID:-//The Trinitarians - India - ECPv5.3.2.1//NONSGML v1.0//EN
CALSCALE:GREGORIAN
METHOD:PUBLISH
X-WR-CALNAME:The Trinitarians - India
X-ORIGINAL-URL:https://trinitariansindia.org/wp
X-WR-CALDESC:Events for The Trinitarians - India
BEGIN:VTIMEZONE
TZID:UTC
BEGIN:STANDARD
TZOFFSETFROM:+0000
TZOFFSETTO:+0000
TZNAME:UTC
DTSTART:20190101T000000
END:STANDARD
END:VTIMEZONE
BEGIN:VEVENT
DTSTART;VALUE=DATE:20190324
DTEND;VALUE=DATE:20190325
DTSTAMP:20260424T122840
CREATED:20190411T171527Z
LAST-MODIFIED:20190412T100057Z
UID:5838-1553385600-1553471999@trinitariansindia.org
SUMMARY:CLC Anniversary Program
DESCRIPTION:We participated in the  457th  anniversary of the CLC  International and the 90th anniversary of CLC in Kerala. The program took place in Aranattukara Parish\, where the members of the different groups from all the parish of Thrissur gathered.   The day was filled with energy and enthusiasm.     El 24 de Marzo participamos en el 457 Aniversario del grupo de jóvenes que pertenecen al Movimiento Internacional (Christian Life Community) que a su vez celebraron el 90 Aniversario de vida en Trichur. El evento se realizó en nuestra parroquia donde losy las jóvenes recibieron premios como reconocimiento de las actvidades del año y presentaron diferentes   bailes\, desde clasicos de Kerala hasta modernos\, el día estuvo lleno de energía y entusiasmo que emanaba de los y las jóvenes y del Espiritu Santo que los habita.    
URL:https://trinitariansindia.org/wp/event/clc-anniversary-program/
LOCATION:Trinitarian Sisters\, Thrissur\, Holy Trinity Convent\, Thrissur\, Kerala\, 680618\, India
CATEGORIES:Anniversary
ATTACH;FMTTYPE=image/png:https://trinitariansindia.org/wp/wp-content/uploads/2019/04/SISTERS-CLC-March-2019.png
END:VEVENT
END:VCALENDAR