BEGIN:VCALENDAR
VERSION:2.0
PRODID:-//The Trinitarians - India - ECPv5.3.2.1//NONSGML v1.0//EN
CALSCALE:GREGORIAN
METHOD:PUBLISH
X-WR-CALNAME:The Trinitarians - India
X-ORIGINAL-URL:https://trinitariansindia.org/wp
X-WR-CALDESC:Events for The Trinitarians - India
BEGIN:VTIMEZONE
TZID:UTC
BEGIN:STANDARD
TZOFFSETFROM:+0000
TZOFFSETTO:+0000
TZNAME:UTC
DTSTART:20220101T000000
END:STANDARD
END:VTIMEZONE
BEGIN:VEVENT
DTSTART;VALUE=DATE:20221101
DTEND;VALUE=DATE:20221102
DTSTAMP:20260421T122611
CREATED:20221214T043934Z
LAST-MODIFIED:20221214T043934Z
UID:11424-1667260800-1667347199@trinitariansindia.org
SUMMARY:Community Picnic
DESCRIPTION:Community had a half day picnic. It was a moment of sharing the freternal love. The comminity useed it as a farewell day for the second year Novices.
URL:https://trinitariansindia.org/wp/event/community-picnic-7/
LOCATION:Holy Trinity Ashram\, Kasaragod
CATEGORIES:Picnic
ATTACH;FMTTYPE=image/png:https://trinitariansindia.org/wp/wp-content/uploads/2022/12/KGQ-picnic-Nov2022.png
END:VEVENT
END:VCALENDAR