BEGIN:VCALENDAR
VERSION:2.0
PRODID:-//The Trinitarians - India - ECPv5.3.2.1//NONSGML v1.0//EN
CALSCALE:GREGORIAN
METHOD:PUBLISH
X-WR-CALNAME:The Trinitarians - India
X-ORIGINAL-URL:https://trinitariansindia.org/wp
X-WR-CALDESC:Events for The Trinitarians - India
BEGIN:VTIMEZONE
TZID:UTC
BEGIN:STANDARD
TZOFFSETFROM:+0000
TZOFFSETTO:+0000
TZNAME:UTC
DTSTART:20190101T000000
END:STANDARD
END:VTIMEZONE
BEGIN:VEVENT
DTSTART;VALUE=DATE:20190105
DTEND;VALUE=DATE:20190108
DTSTAMP:20260424T012517
CREATED:20190206T070752Z
LAST-MODIFIED:20190206T070752Z
UID:5522-1546646400-1546905599@trinitariansindia.org
SUMMARY:Community Tour to Hyderabad
DESCRIPTION:Community had the picnic to Hyderabad. We spend around 2 days in Hyderabad. We really had a beautiful time and stay there. We as a community experienced once again fun and feeling of childlike.
URL:https://trinitariansindia.org/wp/event/community-tour-to-hyderabad/
LOCATION:Holy Trinity Ashram – Bengaluru\, Holy Trinity Ashram\, Bengaluru\, karnataka\, 560076\, India
CATEGORIES:Picnic/Tour
ATTACH;FMTTYPE=image/png:https://trinitariansindia.org/wp/wp-content/uploads/2019/02/BLR-comty-tour-Jan.2019.png
END:VEVENT
END:VCALENDAR