BEGIN:VCALENDAR
VERSION:2.0
PRODID:-//The Trinitarians - India - ECPv5.3.2.1//NONSGML v1.0//EN
CALSCALE:GREGORIAN
METHOD:PUBLISH
X-WR-CALNAME:The Trinitarians - India
X-ORIGINAL-URL:https://trinitariansindia.org/wp
X-WR-CALDESC:Events for The Trinitarians - India
BEGIN:VTIMEZONE
TZID:UTC
BEGIN:STANDARD
TZOFFSETFROM:+0000
TZOFFSETTO:+0000
TZNAME:UTC
DTSTART:20220101T000000
END:STANDARD
END:VTIMEZONE
BEGIN:VEVENT
DTSTART;VALUE=DATE:20221031
DTEND;VALUE=DATE:20221101
DTSTAMP:20260421T175305
CREATED:20221104T045127Z
LAST-MODIFIED:20221104T045127Z
UID:11223-1667174400-1667260799@trinitariansindia.org
SUMMARY:Concluding of Month of Rosary
DESCRIPTION:We concluded the month of Rosary with a solemn Rosary procession around the community carrying the statue. There were Marian reflections for the last 10 days. On 31st\, Fr. Saneesh gave the Marian reflection on the theme\, “Magnificat.”
URL:https://trinitariansindia.org/wp/event/concluding-of-month-of-rosary/
LOCATION:Holy Trinity Ashram\, Thrissur\, Holy Trinity Ashram\, Thrissur\, Kerala\, 680618\, India
CATEGORIES:Celebration,Feast
ATTACH;FMTTYPE=image/png:https://trinitariansindia.org/wp/wp-content/uploads/2022/11/TCR-end-of-rosary-month-Oct-2022.png
END:VEVENT
END:VCALENDAR