BEGIN:VCALENDAR
VERSION:2.0
PRODID:-//The Trinitarians - India - ECPv5.3.2.1//NONSGML v1.0//EN
CALSCALE:GREGORIAN
METHOD:PUBLISH
X-WR-CALNAME:The Trinitarians - India
X-ORIGINAL-URL:https://trinitariansindia.org/wp
X-WR-CALDESC:Events for The Trinitarians - India
BEGIN:VTIMEZONE
TZID:UTC
BEGIN:STANDARD
TZOFFSETFROM:+0000
TZOFFSETTO:+0000
TZNAME:UTC
DTSTART:20190101T000000
END:STANDARD
END:VTIMEZONE
BEGIN:VEVENT
DTSTART;VALUE=DATE:20190228
DTEND;VALUE=DATE:20190301
DTSTAMP:20260423T160408
CREATED:20190306T164952Z
LAST-MODIFIED:20190306T165111Z
UID:5721-1551312000-1551398399@trinitariansindia.org
SUMMARY:Concluding of the Academic Year 2018-2019
DESCRIPTION:The Academic year of 2018-19 was concluded with Holy Mass and Fr. Vinay thanked all the teaching staff for their availability and service to our community.
URL:https://trinitariansindia.org/wp/event/concluding-of-the-academic-year-2018-2019/
LOCATION:Holy Trinity Ashram\, Thrissur\, Holy Trinity Ashram\, Thrissur\, Kerala\, 680618\, India
CATEGORIES:Celebration
ATTACH;FMTTYPE=image/png:https://trinitariansindia.org/wp/wp-content/uploads/2019/03/TCR-closing-of-academic-yr-Feb2019.png
END:VEVENT
END:VCALENDAR