BEGIN:VCALENDAR
VERSION:2.0
PRODID:-//The Trinitarians - India - ECPv5.3.2.1//NONSGML v1.0//EN
CALSCALE:GREGORIAN
METHOD:PUBLISH
X-WR-CALNAME:The Trinitarians - India
X-ORIGINAL-URL:https://trinitariansindia.org/wp
X-WR-CALDESC:Events for The Trinitarians - India
BEGIN:VTIMEZONE
TZID:UTC
BEGIN:STANDARD
TZOFFSETFROM:+0000
TZOFFSETTO:+0000
TZNAME:UTC
DTSTART:20200101T000000
END:STANDARD
END:VTIMEZONE
BEGIN:VEVENT
DTSTART;VALUE=DATE:20200128
DTEND;VALUE=DATE:20200129
DTSTAMP:20260424T104926
CREATED:20200312T025402Z
LAST-MODIFIED:20200312T025402Z
UID:6977-1580169600-1580255999@trinitariansindia.org
SUMMARY:Congrats to Fr. Jibin
DESCRIPTION:Fr. Jibin Autokaran CMI \, the newly ordained priest and  the nephew of Fr. Xavier visited our community. He celebrated Holy Mass for us and we wished him all success in his ministry.
URL:https://trinitariansindia.org/wp/event/congrats-to-fr-jibin/
LOCATION:Holy Trinity Ashram – Bengaluru\, Holy Trinity Ashram\, Bengaluru\, karnataka\, 560076\, India
CATEGORIES:Congratulations
ATTACH;FMTTYPE=image/png:https://trinitariansindia.org/wp/wp-content/uploads/2020/03/BLR-congrats-to-newly-ordained-Jan-2020.png
END:VEVENT
END:VCALENDAR