BEGIN:VCALENDAR
VERSION:2.0
PRODID:-//The Trinitarians - India - ECPv5.3.2.1//NONSGML v1.0//EN
CALSCALE:GREGORIAN
METHOD:PUBLISH
X-WR-CALNAME:The Trinitarians - India
X-ORIGINAL-URL:https://trinitariansindia.org/wp
X-WR-CALDESC:Events for The Trinitarians - India
BEGIN:VTIMEZONE
TZID:UTC
BEGIN:STANDARD
TZOFFSETFROM:+0000
TZOFFSETTO:+0000
TZNAME:UTC
DTSTART:20200101T000000
END:STANDARD
END:VTIMEZONE
BEGIN:VEVENT
DTSTART;VALUE=DATE:20200523
DTEND;VALUE=DATE:20200524
DTSTAMP:20260421T180222
CREATED:20200612T111355Z
LAST-MODIFIED:20200612T111355Z
UID:7548-1590192000-1590278399@trinitariansindia.org
SUMMARY:Congratulations!
DESCRIPTION:Bro. Emmanuel Joseph\, who recently professed\, visited the community.  The Community congratulated him and wished him all the success for his next level of formation.
URL:https://trinitariansindia.org/wp/event/congratulations-10/
LOCATION:Holy Trinity Ashram\, Thrissur\, Holy Trinity Ashram\, Thrissur\, Kerala\, 680618\, India
CATEGORIES:Congratulations
ATTACH;FMTTYPE=image/png:https://trinitariansindia.org/wp/wp-content/uploads/2020/06/TCR-congrats-Br.Emmanuel-May-2020.png
END:VEVENT
END:VCALENDAR