BEGIN:VCALENDAR
VERSION:2.0
PRODID:-//The Trinitarians - India - ECPv5.3.2.1//NONSGML v1.0//EN
CALSCALE:GREGORIAN
METHOD:PUBLISH
X-WR-CALNAME:The Trinitarians - India
X-ORIGINAL-URL:https://trinitariansindia.org/wp
X-WR-CALDESC:Events for The Trinitarians - India
BEGIN:VTIMEZONE
TZID:UTC
BEGIN:STANDARD
TZOFFSETFROM:+0000
TZOFFSETTO:+0000
TZNAME:UTC
DTSTART:20260101T000000
END:STANDARD
END:VTIMEZONE
BEGIN:VEVENT
DTSTART;VALUE=DATE:20260313
DTEND;VALUE=DATE:20260314
DTSTAMP:20260422T232137
CREATED:20260418T230828Z
LAST-MODIFIED:20260418T231202Z
UID:14058-1773360000-1773446399@trinitariansindia.org
SUMMARY:Congratulations
DESCRIPTION:Fr. Joshi Antony was installed as the Minister Conventual of the community. Congratulations to Fr. Joshi!
URL:https://trinitariansindia.org/wp/event/congratulations-24/
LOCATION:Holy Trinity Ashram\, Kasaragod
CATEGORIES:Congratulations
ATTACH;FMTTYPE=image/png:https://trinitariansindia.org/wp/wp-content/uploads/2026/04/KGQ-congrats-March2026.png
END:VEVENT
END:VCALENDAR