BEGIN:VCALENDAR
VERSION:2.0
PRODID:-//The Trinitarians - India - ECPv5.3.2.1//NONSGML v1.0//EN
CALSCALE:GREGORIAN
METHOD:PUBLISH
X-WR-CALNAME:The Trinitarians - India
X-ORIGINAL-URL:https://trinitariansindia.org/wp
X-WR-CALDESC:Events for The Trinitarians - India
BEGIN:VTIMEZONE
TZID:UTC
BEGIN:STANDARD
TZOFFSETFROM:+0000
TZOFFSETTO:+0000
TZNAME:UTC
DTSTART:20260101T000000
END:STANDARD
END:VTIMEZONE
BEGIN:VEVENT
DTSTART;VALUE=DATE:20260316
DTEND;VALUE=DATE:20260317
DTSTAMP:20260423T040343
CREATED:20260418T232357Z
LAST-MODIFIED:20260418T232357Z
UID:14063-1773619200-1773705599@trinitariansindia.org
SUMMARY:Congratulations
DESCRIPTION:During Lauds\, Fr. Alphonse was installed as the Minister of the community by the General Councillor\, Fr. Sibi.
URL:https://trinitariansindia.org/wp/event/congratulations-25/
LOCATION:Rome
CATEGORIES:Congratulations
ATTACH;FMTTYPE=image/png:https://trinitariansindia.org/wp/wp-content/uploads/2026/04/ITALY-congrats-March2026.png
END:VEVENT
END:VCALENDAR