BEGIN:VCALENDAR
VERSION:2.0
PRODID:-//The Trinitarians - India - ECPv5.3.2.1//NONSGML v1.0//EN
CALSCALE:GREGORIAN
METHOD:PUBLISH
X-WR-CALNAME:The Trinitarians - India
X-ORIGINAL-URL:https://trinitariansindia.org/wp
X-WR-CALDESC:Events for The Trinitarians - India
BEGIN:VTIMEZONE
TZID:UTC
BEGIN:STANDARD
TZOFFSETFROM:+0000
TZOFFSETTO:+0000
TZNAME:UTC
DTSTART:20260101T000000
END:STANDARD
END:VTIMEZONE
BEGIN:VEVENT
DTSTART;VALUE=DATE:20260319
DTEND;VALUE=DATE:20260320
DTSTAMP:20260423T085820
CREATED:20260418T234032Z
LAST-MODIFIED:20260418T234032Z
UID:14071-1773878400-1773964799@trinitariansindia.org
SUMMARY:Congratulations
DESCRIPTION:During Vespers\, Fr. Rinto was installed as the Minister of Tritva Bhavan.
URL:https://trinitariansindia.org/wp/event/congratulations-26/
LOCATION:Tritva Bhavan\, Assam
CATEGORIES:Congratulations
ATTACH;FMTTYPE=image/png:https://trinitariansindia.org/wp/wp-content/uploads/2026/04/ASSAM-Congrats-March2026.png
END:VEVENT
END:VCALENDAR