BEGIN:VCALENDAR
VERSION:2.0
PRODID:-//The Trinitarians - India - ECPv5.3.2.1//NONSGML v1.0//EN
CALSCALE:GREGORIAN
METHOD:PUBLISH
X-WR-CALNAME:The Trinitarians - India
X-ORIGINAL-URL:https://trinitariansindia.org/wp
X-WR-CALDESC:Events for The Trinitarians - India
BEGIN:VTIMEZONE
TZID:UTC
BEGIN:STANDARD
TZOFFSETFROM:+0000
TZOFFSETTO:+0000
TZNAME:UTC
DTSTART:20190101T000000
END:STANDARD
END:VTIMEZONE
BEGIN:VEVENT
DTSTART;VALUE=DATE:20190515
DTEND;VALUE=DATE:20190516
DTSTAMP:20260422T124012
CREATED:20190614T102645Z
LAST-MODIFIED:20190614T102645Z
UID:6023-1557878400-1557964799@trinitariansindia.org
SUMMARY:Congratulations!
DESCRIPTION:The St. Xavier’s School\, Tamulpur\, secured 100% result for Class X during the 2018 -2019 academic year.  Congratulation to the Staff and students of the School.
URL:https://trinitariansindia.org/wp/event/congratulations-4/
LOCATION:Tritva Bhavan\, Assam
CATEGORIES:Congratulations
ATTACH;FMTTYPE=image/png:https://trinitariansindia.org/wp/wp-content/uploads/2019/06/ASSAM-Congrats-May2019.png
END:VEVENT
END:VCALENDAR