BEGIN:VCALENDAR
VERSION:2.0
PRODID:-//The Trinitarians - India - ECPv5.3.2.1//NONSGML v1.0//EN
CALSCALE:GREGORIAN
METHOD:PUBLISH
X-WR-CALNAME:The Trinitarians - India
X-ORIGINAL-URL:https://trinitariansindia.org/wp
X-WR-CALDESC:Events for The Trinitarians - India
BEGIN:VTIMEZONE
TZID:UTC
BEGIN:STANDARD
TZOFFSETFROM:+0000
TZOFFSETTO:+0000
TZNAME:UTC
DTSTART:20190101T000000
END:STANDARD
END:VTIMEZONE
BEGIN:VEVENT
DTSTART;VALUE=DATE:20190614
DTEND;VALUE=DATE:20190615
DTSTAMP:20260421T211852
CREATED:20190615T042810Z
LAST-MODIFIED:20190615T042810Z
UID:6054-1560470400-1560556799@trinitariansindia.org
SUMMARY:Congratulations!
DESCRIPTION:We congratulate Rev. Fr. Gino (Luigi) Buccarello\, O.SS.T.\, Minister General\, and all the newly elected Council members.  We wish them all the best in their new roles in the General Administration and pray that the Triune God bless them abundantly in their responsibilities entrusted by the Lord.
URL:https://trinitariansindia.org/wp/event/congratulations-5/
LOCATION:Vice-Province Admin\, Holy Trinity Ashram\, Bangalore\, 560076\, India
CATEGORIES:Congratulations
ATTACH;FMTTYPE=image/png:https://trinitariansindia.org/wp/wp-content/uploads/2019/06/New-General-Team-June-2019.png
END:VEVENT
END:VCALENDAR