BEGIN:VCALENDAR
VERSION:2.0
PRODID:-//The Trinitarians - India - ECPv5.3.2.1//NONSGML v1.0//EN
CALSCALE:GREGORIAN
METHOD:PUBLISH
X-WR-CALNAME:The Trinitarians - India
X-ORIGINAL-URL:https://trinitariansindia.org/wp
X-WR-CALDESC:Events for The Trinitarians - India
BEGIN:VTIMEZONE
TZID:UTC
BEGIN:STANDARD
TZOFFSETFROM:+0000
TZOFFSETTO:+0000
TZNAME:UTC
DTSTART:20190101T000000
END:STANDARD
END:VTIMEZONE
BEGIN:VEVENT
DTSTART;VALUE=DATE:20190527
DTEND;VALUE=DATE:20190528
DTSTAMP:20260422T025522
CREATED:20190614T154334Z
LAST-MODIFIED:20190614T154334Z
UID:6042-1558915200-1559001599@trinitariansindia.org
SUMMARY:Congratulations to Deacon Rinto Mathew
DESCRIPTION:Bro. Rinto Mathew\, O.SS.T. was ordained a deacon by his Excellency Mar Tony Neelankavil\, Auxiliary Bishop of Thrissur\, at HTA\, Thrissur\, in the presence of several priests\, religious and family members of Bro. Rinto.  Congratulations and best wishes to Dn. Rinto who is currently doing his deaconate ministry in the diocese of Irinjalakuda.
URL:https://trinitariansindia.org/wp/event/congratulations-to-deacon-rinto-mathew/
LOCATION:Vice-Province Admin\, Holy Trinity Ashram\, Bangalore\, 560076\, India
CATEGORIES:Congratulations,Ordinaton
ATTACH;FMTTYPE=image/png:https://trinitariansindia.org/wp/wp-content/uploads/2019/06/Rinto-Diaconate-Ordi-May2019.png
END:VEVENT
END:VCALENDAR