BEGIN:VCALENDAR
VERSION:2.0
PRODID:-//The Trinitarians - India - ECPv5.3.2.1//NONSGML v1.0//EN
CALSCALE:GREGORIAN
METHOD:PUBLISH
X-WR-CALNAME:The Trinitarians - India
X-ORIGINAL-URL:https://trinitariansindia.org/wp
X-WR-CALDESC:Events for The Trinitarians - India
BEGIN:VTIMEZONE
TZID:UTC
BEGIN:STANDARD
TZOFFSETFROM:+0000
TZOFFSETTO:+0000
TZNAME:UTC
DTSTART:20200101T000000
END:STANDARD
END:VTIMEZONE
BEGIN:VEVENT
DTSTART;VALUE=DATE:20201110
DTEND;VALUE=DATE:20201111
DTSTAMP:20260425T233251
CREATED:20201211T091346Z
LAST-MODIFIED:20201211T091346Z
UID:8271-1604966400-1605052799@trinitariansindia.org
SUMMARY:Congratulations to Fr. Antony Pullukattu
DESCRIPTION:We had twin celebrations during the day; the 25th anniversary of the simple profession of Fr. Antony and send off to Srs. Dorita and Anitha. Fr. Bitaju felicitated them. Fr. Antony shared the joy with the community\, by cutting the cake and through his beautiful message to the community. Sr. Dorita gave an emotional speech from her heart for all the support the community offered to her\, in the midst of her struggles.
URL:https://trinitariansindia.org/wp/event/congratulations-to-fr-antony-pullukattu/
LOCATION:Holy Trinity Ashram\, Thrissur\, Holy Trinity Ashram\, Thrissur\, Kerala\, 680618\, India
CATEGORIES:Congratulations
ATTACH;FMTTYPE=image/png:https://trinitariansindia.org/wp/wp-content/uploads/2020/12/TCR-Fr.Antony-jubilee-Nov2020.png
END:VEVENT
END:VCALENDAR