BEGIN:VCALENDAR
VERSION:2.0
PRODID:-//The Trinitarians - India - ECPv5.3.2.1//NONSGML v1.0//EN
CALSCALE:GREGORIAN
METHOD:PUBLISH
X-WR-CALNAME:The Trinitarians - India
X-ORIGINAL-URL:https://trinitariansindia.org/wp
X-WR-CALDESC:Events for The Trinitarians - India
BEGIN:VTIMEZONE
TZID:UTC
BEGIN:STANDARD
TZOFFSETFROM:+0000
TZOFFSETTO:+0000
TZNAME:UTC
DTSTART:20190101T000000
END:STANDARD
END:VTIMEZONE
BEGIN:VEVENT
DTSTART;VALUE=DATE:20190219
DTEND;VALUE=DATE:20190220
DTSTAMP:20260421T064856
CREATED:20190309T105332Z
LAST-MODIFIED:20190309T105332Z
UID:5764-1550534400-1550620799@trinitariansindia.org
SUMMARY:Congratulations to Fr. Diljo!
DESCRIPTION:We welcomed  and congratulated  Fr. Diljo  into our community  by sharing the joy of  his priestly Ordination. We felt great happiness for his Trinitarian vocation and humbly surrendered him to God’s will in our Trinitarian Family.
URL:https://trinitariansindia.org/wp/event/congratulations-to-fr-diljo/
LOCATION:Trinitarian Sisters\, Thrissur\, Holy Trinity Convent\, Thrissur\, Kerala\, 680618
CATEGORIES:Congratulations
ATTACH;FMTTYPE=image/png:https://trinitariansindia.org/wp/wp-content/uploads/2019/03/Sisters-congrats-frDiljo-Feb2019.png
END:VEVENT
END:VCALENDAR