BEGIN:VCALENDAR
VERSION:2.0
PRODID:-//The Trinitarians - India - ECPv5.3.2.1//NONSGML v1.0//EN
CALSCALE:GREGORIAN
METHOD:PUBLISH
X-WR-CALNAME:The Trinitarians - India
X-ORIGINAL-URL:https://trinitariansindia.org/wp
X-WR-CALDESC:Events for The Trinitarians - India
BEGIN:VTIMEZONE
TZID:UTC
BEGIN:STANDARD
TZOFFSETFROM:+0000
TZOFFSETTO:+0000
TZNAME:UTC
DTSTART:20220101T000000
END:STANDARD
END:VTIMEZONE
BEGIN:VEVENT
DTSTART;VALUE=DATE:20221113
DTEND;VALUE=DATE:20221114
DTSTAMP:20260420T171354
CREATED:20221213T163644Z
LAST-MODIFIED:20221213T163644Z
UID:11399-1668297600-1668383999@trinitariansindia.org
SUMMARY:Congratulations to Rev. Pradeep Puthenveettil
DESCRIPTION:The community welcomed Fr. Pradheep Puthenveettil  OSST\, newly elected Minister Vice Provincial of St. Michael’s  Vice Province\, India. The sisters were glad to welcome him and congragulate him. We assured him our prayers and  wished all the best for all the new responsibilities that he undertakes.
URL:https://trinitariansindia.org/wp/event/congratulations-to-rev-pradeep-puthenveettil/
LOCATION:Trinitarian Sisters\, Thrissur\, Holy Trinity Convent\, Thrissur\, Kerala\, 680618\, India
CATEGORIES:Congratulations
ATTACH;FMTTYPE=image/png:https://trinitariansindia.org/wp/wp-content/uploads/2022/12/SISTERS-congrats-Fr.Pradeep-Nov2022.png
END:VEVENT
END:VCALENDAR