BEGIN:VCALENDAR
VERSION:2.0
PRODID:-//The Trinitarians - India - ECPv5.3.2.1//NONSGML v1.0//EN
CALSCALE:GREGORIAN
METHOD:PUBLISH
X-WR-CALNAME:The Trinitarians - India
X-ORIGINAL-URL:https://trinitariansindia.org/wp
X-WR-CALDESC:Events for The Trinitarians - India
BEGIN:VTIMEZONE
TZID:UTC
BEGIN:STANDARD
TZOFFSETFROM:+0000
TZOFFSETTO:+0000
TZNAME:UTC
DTSTART:20210101T000000
END:STANDARD
END:VTIMEZONE
BEGIN:VEVENT
DTSTART;VALUE=DATE:20211109
DTEND;VALUE=DATE:20211110
DTSTAMP:20260424T032425
CREATED:20211206T163137Z
LAST-MODIFIED:20211206T163137Z
UID:9417-1636416000-1636502399@trinitariansindia.org
SUMMARY:Covid-19 Relief in Collaboration with Holy Cross Sisters
DESCRIPTION:The Bengaluru community distributed medical equipment to the Provincial of the congregation of Holy Cross Sisters for their hospitals in Kamagere and Madivala.
URL:https://trinitariansindia.org/wp/event/covid-19-relief-in-collaboration-with-holy-cross-sisters/
LOCATION:Holy Trinity Ashram – Bengaluru\, Holy Trinity Ashram\, Bengaluru\, karnataka\, 560076\, India
CATEGORIES:Covid-19 Victims support,Trinitarian Redemptive Mission
ATTACH;FMTTYPE=image/png:https://trinitariansindia.org/wp/wp-content/uploads/2021/12/BLR-covid-relief-Nov2021.png
END:VEVENT
END:VCALENDAR