BEGIN:VCALENDAR
VERSION:2.0
PRODID:-//The Trinitarians - India - ECPv5.3.2.1//NONSGML v1.0//EN
CALSCALE:GREGORIAN
METHOD:PUBLISH
X-WR-CALNAME:The Trinitarians - India
X-ORIGINAL-URL:https://trinitariansindia.org/wp
X-WR-CALDESC:Events for The Trinitarians - India
BEGIN:VTIMEZONE
TZID:UTC
BEGIN:STANDARD
TZOFFSETFROM:+0000
TZOFFSETTO:+0000
TZNAME:UTC
DTSTART:20220101T000000
END:STANDARD
END:VTIMEZONE
BEGIN:VEVENT
DTSTART;VALUE=DATE:20220815
DTEND;VALUE=DATE:20220816
DTSTAMP:20260425T003654
CREATED:20220912T124747Z
LAST-MODIFIED:20220912T124747Z
UID:10783-1660521600-1660607999@trinitariansindia.org
SUMMARY:Cultural Eve
DESCRIPTION:There was a colorful cultural eve in honor of our twin celebrations today. The brothers creatively performed a group song\, mime\, display\, salve regina and a group dance. The programs highlighted the patriotism and devotion to our mother.
URL:https://trinitariansindia.org/wp/event/cultural-eve/
LOCATION:Holy Trinity Ashram\, Thrissur\, Holy Trinity Ashram\, Thrissur\, Kerala\, 680618\, India
CATEGORIES:Celebration
ATTACH;FMTTYPE=image/png:https://trinitariansindia.org/wp/wp-content/uploads/2022/09/TCR-independence-day-Aug2022.png
END:VEVENT
END:VCALENDAR