BEGIN:VCALENDAR
VERSION:2.0
PRODID:-//The Trinitarians - India - ECPv5.3.2.1//NONSGML v1.0//EN
CALSCALE:GREGORIAN
METHOD:PUBLISH
X-WR-CALNAME:The Trinitarians - India
X-ORIGINAL-URL:https://trinitariansindia.org/wp
X-WR-CALDESC:Events for The Trinitarians - India
BEGIN:VTIMEZONE
TZID:UTC
BEGIN:STANDARD
TZOFFSETFROM:+0000
TZOFFSETTO:+0000
TZNAME:UTC
DTSTART:20220101T000000
END:STANDARD
END:VTIMEZONE
BEGIN:VEVENT
DTSTART;VALUE=DATE:20221029
DTEND;VALUE=DATE:20221030
DTSTAMP:20260421T232555
CREATED:20221104T045226Z
LAST-MODIFIED:20221104T045226Z
UID:11239-1667001600-1667087999@trinitariansindia.org
SUMMARY:Dharshana Trirunnal
DESCRIPTION:“The Darshana Thirunnal” was celebrated in our campus\, after 2 years of pandemic. A big tent was prepared in front of the Ashram. At evening\, 6 pm\, there was a solemn Holy Eucharist presided over by Fr. Jins\, the Minister of the house. It was concelebrated by Fr. Vicar\, the Asst. Vicar and rest of the priests from the community. Fr. Jins preached a prevailing and firing homily on Mother Mary. Thereafter\, a procession was conducted from Ashram to the Parish. We also joined with the procession. Thanks to all the community members for your timely assistance and support to the success of this great event.
URL:https://trinitariansindia.org/wp/event/dharshana-trirunnal/
LOCATION:Holy Trinity Ashram\, Thrissur\, Holy Trinity Ashram\, Thrissur\, Kerala\, 680618\, India
CATEGORIES:Celebration,Feast
ATTACH;FMTTYPE=image/png:https://trinitariansindia.org/wp/wp-content/uploads/2022/11/TCR-rosary-procession-Oct-2022.png
END:VEVENT
END:VCALENDAR