BEGIN:VCALENDAR
VERSION:2.0
PRODID:-//The Trinitarians - India - ECPv5.3.2.1//NONSGML v1.0//EN
CALSCALE:GREGORIAN
METHOD:PUBLISH
X-WR-CALNAME:The Trinitarians - India
X-ORIGINAL-URL:https://trinitariansindia.org/wp
X-WR-CALDESC:Events for The Trinitarians - India
BEGIN:VTIMEZONE
TZID:UTC
BEGIN:STANDARD
TZOFFSETFROM:+0000
TZOFFSETTO:+0000
TZNAME:UTC
DTSTART:20190101T000000
END:STANDARD
END:VTIMEZONE
BEGIN:VEVENT
DTSTART;VALUE=DATE:20190524
DTEND;VALUE=DATE:20190528
DTSTAMP:20260422T074925
CREATED:20190614T103112Z
LAST-MODIFIED:20190614T103112Z
UID:6026-1558656000-1559001599@trinitariansindia.org
SUMMARY:Easter Blessing of the Houses
DESCRIPTION:Fr. Jojo\, the Parish Priest\, and the Sisters did the traditional Easter House Blessings in the Villages.
URL:https://trinitariansindia.org/wp/event/easter-blessing-of-the-houses/
LOCATION:Tritva Bhavan\, Assam
CATEGORIES:Blessing
ATTACH;FMTTYPE=image/png:https://trinitariansindia.org/wp/wp-content/uploads/2019/06/ASSAM-house-blessing-May2019.png
END:VEVENT
END:VCALENDAR