BEGIN:VCALENDAR
VERSION:2.0
PRODID:-//The Trinitarians - India - ECPv5.3.2.1//NONSGML v1.0//EN
CALSCALE:GREGORIAN
METHOD:PUBLISH
X-WR-CALNAME:The Trinitarians - India
X-ORIGINAL-URL:https://trinitariansindia.org/wp
X-WR-CALDESC:Events for The Trinitarians - India
BEGIN:VTIMEZONE
TZID:UTC
BEGIN:STANDARD
TZOFFSETFROM:+0000
TZOFFSETTO:+0000
TZNAME:UTC
DTSTART:20190101T000000
END:STANDARD
END:VTIMEZONE
BEGIN:VEVENT
DTSTART;VALUE=DATE:20190421
DTEND;VALUE=DATE:20190422
DTSTAMP:20260423T085820
CREATED:20190430T062109Z
LAST-MODIFIED:20190430T062109Z
UID:5941-1555804800-1555891199@trinitariansindia.org
SUMMARY:Easter Celebrations
DESCRIPTION:The community participated in the Easter Vigil service at St. Thomas Church\, Kollamgahana. Fr. Binoj presided over the Eucharistic celebration on Sunday morning and the house and properties were blessed.
URL:https://trinitariansindia.org/wp/event/easter-celebrations-2/
LOCATION:Holy Trinity Ashram\, Kasaragod
CATEGORIES:Celebration
ATTACH;FMTTYPE=image/png:https://trinitariansindia.org/wp/wp-content/uploads/2019/04/KGQ-breaking-of-bread-April-2019.png
END:VEVENT
END:VCALENDAR