BEGIN:VCALENDAR
VERSION:2.0
PRODID:-//The Trinitarians - India - ECPv5.3.2.1//NONSGML v1.0//EN
CALSCALE:GREGORIAN
METHOD:PUBLISH
X-WR-CALNAME:The Trinitarians - India
X-ORIGINAL-URL:https://trinitariansindia.org/wp
X-WR-CALDESC:Events for The Trinitarians - India
BEGIN:VTIMEZONE
TZID:UTC
BEGIN:STANDARD
TZOFFSETFROM:+0000
TZOFFSETTO:+0000
TZNAME:UTC
DTSTART:20170101T000000
END:STANDARD
END:VTIMEZONE
BEGIN:VEVENT
DTSTART;VALUE=DATE:20170219
DTEND;VALUE=DATE:20170220
DTSTAMP:20260424T043507
CREATED:20170320T170325Z
LAST-MODIFIED:20170322T035319Z
UID:2396-1487462400-1487548799@trinitariansindia.org
SUMMARY:Election of the Third Order Executives
DESCRIPTION:The election of the Executives of the Trinitarian Third Order took place under the leadership of Fr. Sunil\, the Minister Conventual and Fr. Alphonse\,the Director of the Third Order. The following members were elected: Mrs. Joly Regi\, President\, Mr. Babu Edakalathur\, Vice-President\, Mrs. Ancy Varghese\, Secretary and Mr. Raju Elavuthingal\, Treasurer.  The following are the executive members: Jose Pulikan\, Paul P.A.\, Roy N.T.\, Annamkutty Francis\, Omana Jose\, Raji Joseph and Omana Varghese.
URL:https://trinitariansindia.org/wp/event/election-of-the-third-order-executives/
LOCATION:Trinitarian Sisters\, Thrissur\, Holy Trinity Convent\, Thrissur\, Kerala\, 680618
CATEGORIES:Election
ATTACH;FMTTYPE=image/png:https://trinitariansindia.org/wp/wp-content/uploads/2017/03/third-Order.png
END:VEVENT
END:VCALENDAR