BEGIN:VCALENDAR
VERSION:2.0
PRODID:-//The Trinitarians - India - ECPv5.3.2.1//NONSGML v1.0//EN
CALSCALE:GREGORIAN
METHOD:PUBLISH
X-WR-CALNAME:The Trinitarians - India
X-ORIGINAL-URL:https://trinitariansindia.org/wp
X-WR-CALDESC:Events for The Trinitarians - India
BEGIN:VTIMEZONE
TZID:UTC
BEGIN:STANDARD
TZOFFSETFROM:+0000
TZOFFSETTO:+0000
TZNAME:UTC
DTSTART:20220101T000000
END:STANDARD
END:VTIMEZONE
BEGIN:VEVENT
DTSTART;VALUE=DATE:20221004
DTEND;VALUE=DATE:20221005
DTSTAMP:20260421T133534
CREATED:20221023T093323Z
LAST-MODIFIED:20221023T093323Z
UID:11101-1664841600-1664927999@trinitariansindia.org
SUMMARY:Entertainment by Major Seminarians
DESCRIPTION:During the evening of fourth day of the Chapter the students of philosophy and theology at Holy Trinity Ashram\, Bangalore\, performed a skit\, dance and choir.  They greeted the capitulars and wished the newly elected the Vice Provincial team.
URL:https://trinitariansindia.org/wp/event/entertainment-by-major-seminarians/
LOCATION:Vice-Province Admin\, Holy Trinity Ashram\, Bangalore\, 560076\, India
CATEGORIES:VP Chapter
ATTACH;FMTTYPE=image/png:https://trinitariansindia.org/wp/wp-content/uploads/2022/10/VP-Chapter-entertainment2-Oct2022.png
END:VEVENT
END:VCALENDAR