BEGIN:VCALENDAR
VERSION:2.0
PRODID:-//The Trinitarians - India - ECPv5.3.2.1//NONSGML v1.0//EN
CALSCALE:GREGORIAN
METHOD:PUBLISH
X-WR-CALNAME:The Trinitarians - India
X-ORIGINAL-URL:https://trinitariansindia.org/wp
X-WR-CALDESC:Events for The Trinitarians - India
BEGIN:VTIMEZONE
TZID:UTC
BEGIN:STANDARD
TZOFFSETFROM:+0000
TZOFFSETTO:+0000
TZNAME:UTC
DTSTART:20220101T000000
END:STANDARD
END:VTIMEZONE
BEGIN:VEVENT
DTSTART;VALUE=DATE:20221001
DTEND;VALUE=DATE:20221003
DTSTAMP:20260421T153458
CREATED:20221023T050547Z
LAST-MODIFIED:20221023T050557Z
UID:11083-1664582400-1664755199@trinitariansindia.org
SUMMARY:Facilitator for the Chapter
DESCRIPTION:Rev. Dr. Sebastian Payyappilly\, CMI was the facilitator of the Chapter for two days.  His interventions and timely feed back were a blessing to the capitulars to be focused and arrive at optimum result in discussions.  Fr Sebastian’s interventions were very sharp and short.
URL:https://trinitariansindia.org/wp/event/facilitator-for-the-chapter/
LOCATION:Vice-Province Admin\, Holy Trinity Ashram\, Bangalore\, 560076\, India
CATEGORIES:VP Chapter
ATTACH;FMTTYPE=image/png:https://trinitariansindia.org/wp/wp-content/uploads/2022/10/VP-Chapter-Rev-Sebastian-Oct2022.png
END:VEVENT
END:VCALENDAR