BEGIN:VCALENDAR
VERSION:2.0
PRODID:-//The Trinitarians - India - ECPv5.3.2.1//NONSGML v1.0//EN
CALSCALE:GREGORIAN
METHOD:PUBLISH
X-WR-CALNAME:The Trinitarians - India
X-ORIGINAL-URL:https://trinitariansindia.org/wp
X-WR-CALDESC:Events for The Trinitarians - India
BEGIN:VTIMEZONE
TZID:UTC
BEGIN:STANDARD
TZOFFSETFROM:+0000
TZOFFSETTO:+0000
TZNAME:UTC
DTSTART:20180101T000000
END:STANDARD
END:VTIMEZONE
BEGIN:VEVENT
DTSTART;VALUE=DATE:20180107
DTEND;VALUE=DATE:20180114
DTSTAMP:20260422T135706
CREATED:20180207T102042Z
LAST-MODIFIED:20180207T102042Z
UID:3853-1515283200-1515887999@trinitariansindia.org
SUMMARY:Faith Exposure Program
DESCRIPTION:Br. Prakash has participated in one week Faith Exposure Program which was conducted in Rangjuli Parish\, Guwahati.  There were around 600 participants from various congregations from the dioceses of North East.  The program commenced on 7th January and ended by 13th.   Everyday Holy Mass was celebrated by bishops from various dioceses.  After the Mass participants were directed about visiting the villages in their assigned groups fifteen members.   Then the group visited the families of the villages and prayed with them.  Most of the families are Garo speaking.  It was an enriching experience.
URL:https://trinitariansindia.org/wp/event/faith-exposure-program/
LOCATION:Tritva Bhavan\, Assam
CATEGORIES:Workshop/Class
ATTACH;FMTTYPE=image/png:https://trinitariansindia.org/wp/wp-content/uploads/2018/02/Assam-faith-exposure-Jan.-2018.png
END:VEVENT
END:VCALENDAR