BEGIN:VCALENDAR
VERSION:2.0
PRODID:-//The Trinitarians - India - ECPv5.3.2.1//NONSGML v1.0//EN
CALSCALE:GREGORIAN
METHOD:PUBLISH
X-WR-CALNAME:The Trinitarians - India
X-ORIGINAL-URL:https://trinitariansindia.org/wp
X-WR-CALDESC:Events for The Trinitarians - India
BEGIN:VTIMEZONE
TZID:UTC
BEGIN:STANDARD
TZOFFSETFROM:+0000
TZOFFSETTO:+0000
TZNAME:UTC
DTSTART:20210101T000000
END:STANDARD
END:VTIMEZONE
BEGIN:VEVENT
DTSTART;VALUE=DATE:20211110
DTEND;VALUE=DATE:20211111
DTSTAMP:20260423T235921
CREATED:20211209T134758Z
LAST-MODIFIED:20211209T134758Z
UID:9558-1636502400-1636588799@trinitariansindia.org
SUMMARY:Family Mass for Third Order Members
DESCRIPTION:Family Mass for the Trinitarian third Order Families. Community conducted family mass for the Trinitarian third order families on different days assigned for each family during the month.
URL:https://trinitariansindia.org/wp/event/family-mass-for-third-order-members/
LOCATION:Holy Trinity Ashram\, Kasaragod
CATEGORIES:Third Order
ATTACH;FMTTYPE=image/png:https://trinitariansindia.org/wp/wp-content/uploads/2021/12/KGQ-Third-Order-fmly-Nov2021.png
END:VEVENT
END:VCALENDAR