BEGIN:VCALENDAR
VERSION:2.0
PRODID:-//The Trinitarians - India - ECPv5.3.2.1//NONSGML v1.0//EN
CALSCALE:GREGORIAN
METHOD:PUBLISH
X-WR-CALNAME:The Trinitarians - India
X-ORIGINAL-URL:https://trinitariansindia.org/wp
X-WR-CALDESC:Events for The Trinitarians - India
BEGIN:VTIMEZONE
TZID:UTC
BEGIN:STANDARD
TZOFFSETFROM:+0000
TZOFFSETTO:+0000
TZNAME:UTC
DTSTART:20220101T000000
END:STANDARD
END:VTIMEZONE
BEGIN:VEVENT
DTSTART;VALUE=DATE:20220820
DTEND;VALUE=DATE:20220821
DTSTAMP:20260424T194019
CREATED:20220909T132601Z
LAST-MODIFIED:20220909T132601Z
UID:10750-1660953600-1661039999@trinitariansindia.org
SUMMARY:Farewell
DESCRIPTION:Along with the parish community\, we conducted farewell program for the Trinitarian nuns transferred from St Luca convent\, one from Castelforte and two from Carano. After the holy Mass in the evening\, we had a small program with sharing moments of joy.
URL:https://trinitariansindia.org/wp/event/farewell-7/
LOCATION:Rome
CATEGORIES:Farewell
ATTACH;FMTTYPE=image/png:https://trinitariansindia.org/wp/wp-content/uploads/2022/09/ITALY-send-off-Aug2022.png
END:VEVENT
END:VCALENDAR