BEGIN:VCALENDAR
VERSION:2.0
PRODID:-//The Trinitarians - India - ECPv5.3.2.1//NONSGML v1.0//EN
CALSCALE:GREGORIAN
METHOD:PUBLISH
X-WR-CALNAME:The Trinitarians - India
X-ORIGINAL-URL:https://trinitariansindia.org/wp
X-WR-CALDESC:Events for The Trinitarians - India
BEGIN:VTIMEZONE
TZID:UTC
BEGIN:STANDARD
TZOFFSETFROM:+0000
TZOFFSETTO:+0000
TZNAME:UTC
DTSTART:20230101T000000
END:STANDARD
END:VTIMEZONE
BEGIN:VEVENT
DTSTART;VALUE=DATE:20231101
DTEND;VALUE=DATE:20231102
DTSTAMP:20260421T155210
CREATED:20231217T054518Z
LAST-MODIFIED:20231217T054518Z
UID:12778-1698796800-1698883199@trinitariansindia.org
SUMMARY:Farewell to Bishop Robert and Fr. Peter
DESCRIPTION:The Bishop of the Roman Catholic Diocese of Fort Portal\, Most Reverend Robert Muhiirwa\, recently spent a brief period in our community as part of his medical care. Accompanying him was Fr. Peter from the same diocese. We thoroughly enjoyed our time with them and valued their presence in our community
URL:https://trinitariansindia.org/wp/event/farewell-to-bishop-robert-and-fr-peter/
LOCATION:Holy Trinity Ashram – Bengaluru\, Holy Trinity Ashram\, Bengaluru\, karnataka\, 560076\, India
CATEGORIES:Farewell
ATTACH;FMTTYPE=image/png:https://trinitariansindia.org/wp/wp-content/uploads/2023/12/BLR-farewell-to-Bp-Robert-Nov2023.png
END:VEVENT
END:VCALENDAR